BEGIN:VCALENDAR
VERSION:2.0
PRODID:-//Bonner Medien-Club e.V. - ECPv6.15.15//NONSGML v1.0//EN
CALSCALE:GREGORIAN
METHOD:PUBLISH
X-ORIGINAL-URL:https://bonner-medienclub.de
X-WR-CALDESC:Veranstaltungen für Bonner Medien-Club e.V.
REFRESH-INTERVAL;VALUE=DURATION:PT1H
X-Robots-Tag:noindex
X-PUBLISHED-TTL:PT1H
BEGIN:VTIMEZONE
TZID:UTC
BEGIN:STANDARD
TZOFFSETFROM:+0000
TZOFFSETTO:+0000
TZNAME:UTC
DTSTART:20250101T000000
END:STANDARD
END:VTIMEZONE
BEGIN:VEVENT
DTSTART;VALUE=DATE:20260311
DTEND;VALUE=DATE:20260312
DTSTAMP:20260421T084222
CREATED:20260412T185557Z
LAST-MODIFIED:20260412T185557Z
UID:2649-1773187200-1773273599@bonner-medienclub.de
SUMMARY:Hintergrundgespräch mit Wolfram Eberhardt\, Erzbistum Köln
DESCRIPTION:
URL:https://bonner-medienclub.de/event/hintergrundgespraech-mit-wolfram-eberhardt-erzbistum-koeln/
END:VEVENT
BEGIN:VEVENT
DTSTART;VALUE=DATE:20260325
DTEND;VALUE=DATE:20260326
DTSTAMP:20260421T084222
CREATED:20260412T185241Z
LAST-MODIFIED:20260412T185241Z
UID:2643-1774396800-1774483199@bonner-medienclub.de
SUMMARY:Hintergrundgespräch mit dem ehemaligen Beigeordneten und Stadtdirektor der Bundesstadt Bonn Wolfgang Fuchs
DESCRIPTION:
URL:https://bonner-medienclub.de/event/hintergrundgespraech-mit-dem-ehemaligen-beigeordneten-und-stadtdirektor-der-bundesstadt-bonn-wolfgang-fuchs/
END:VEVENT
END:VCALENDAR