BEGIN:VCALENDAR
VERSION:2.0
PRODID:-//Bonner Medien-Club e.V. - ECPv6.15.15//NONSGML v1.0//EN
CALSCALE:GREGORIAN
METHOD:PUBLISH
X-WR-CALNAME:Bonner Medien-Club e.V.
X-ORIGINAL-URL:https://bonner-medienclub.de
X-WR-CALDESC:Veranstaltungen für Bonner Medien-Club e.V.
REFRESH-INTERVAL;VALUE=DURATION:PT1H
X-Robots-Tag:noindex
X-PUBLISHED-TTL:PT1H
BEGIN:VTIMEZONE
TZID:UTC
BEGIN:STANDARD
TZOFFSETFROM:+0000
TZOFFSETTO:+0000
TZNAME:UTC
DTSTART:20250101T000000
END:STANDARD
END:VTIMEZONE
BEGIN:VEVENT
DTSTART;VALUE=DATE:20260706
DTEND;VALUE=DATE:20260707
DTSTAMP:20260423T114840
CREATED:20260412T184836Z
LAST-MODIFIED:20260412T184836Z
UID:2637-1783296000-1783382399@bonner-medienclub.de
SUMMARY:Sommerempfang
DESCRIPTION:
URL:https://bonner-medienclub.de/event/sommerempfang/
END:VEVENT
BEGIN:VEVENT
DTSTART;VALUE=DATE:20260708
DTEND;VALUE=DATE:20260709
DTSTAMP:20260423T114840
CREATED:20260412T184919Z
LAST-MODIFIED:20260412T184919Z
UID:2640-1783468800-1783555199@bonner-medienclub.de
SUMMARY:Hausbesuch im Forum Wolfgarten
DESCRIPTION:
URL:https://bonner-medienclub.de/event/hausbesuch-im-forum-wolfgarten/
END:VEVENT
END:VCALENDAR